BEGIN:VCALENDAR
VERSION:2.0
PRODID:-//Q-Leap - ECPv6.15.20//NONSGML v1.0//EN
CALSCALE:GREGORIAN
METHOD:PUBLISH
X-WR-CALNAME:Q-Leap
X-ORIGINAL-URL:https://q-leap.eu/en/
X-WR-CALDESC:Events for Q-Leap
REFRESH-INTERVAL;VALUE=DURATION:PT1H
X-Robots-Tag:noindex
X-PUBLISHED-TTL:PT1H
BEGIN:VTIMEZONE
TZID:Europe/Luxembourg
BEGIN:DAYLIGHT
TZOFFSETFROM:+0100
TZOFFSETTO:+0200
TZNAME:CEST
DTSTART:20240331T010000
END:DAYLIGHT
BEGIN:STANDARD
TZOFFSETFROM:+0200
TZOFFSETTO:+0100
TZNAME:CET
DTSTART:20241027T010000
END:STANDARD
BEGIN:DAYLIGHT
TZOFFSETFROM:+0100
TZOFFSETTO:+0200
TZNAME:CEST
DTSTART:20250330T010000
END:DAYLIGHT
BEGIN:STANDARD
TZOFFSETFROM:+0200
TZOFFSETTO:+0100
TZNAME:CET
DTSTART:20251026T010000
END:STANDARD
BEGIN:DAYLIGHT
TZOFFSETFROM:+0100
TZOFFSETTO:+0200
TZNAME:CEST
DTSTART:20260329T010000
END:DAYLIGHT
BEGIN:STANDARD
TZOFFSETFROM:+0200
TZOFFSETTO:+0100
TZNAME:CET
DTSTART:20261025T010000
END:STANDARD
END:VTIMEZONE
BEGIN:VEVENT
DTSTART;VALUE=DATE:20250722
DTEND;VALUE=DATE:20250725
DTSTAMP:20260422T144401
CREATED:20241106T103701Z
LAST-MODIFIED:20241106T103701Z
UID:36959-1753142400-1753401599@q-leap.eu
SUMMARY:IREB Certified - Requirements engineering - Foundation level
DESCRIPTION:By the end of the course\, participants will have mastered the fundamental principles of requirements engineering in line with IREB (International Requirements Engineering Board) standards. In addition\, they will be prepared to obtain IREB CPRE Foundation level certification.
URL:https://q-leap.eu/en/session/ireb-certified-requirements-engineering-foundation-level-9/
CATEGORIES:ISTQB
ATTACH;FMTTYPE=image/png:https://q-leap.eu/wp-content/uploads/2023/12/IREB5.png
END:VEVENT
BEGIN:VEVENT
DTSTART;VALUE=DATE:20250721
DTEND;VALUE=DATE:20250726
DTSTAMP:20260422T144401
CREATED:20241106T104745Z
LAST-MODIFIED:20241106T104745Z
UID:36986-1753056000-1753487999@q-leap.eu
SUMMARY:ISTQB Certified Test Manager - Advanced level
DESCRIPTION:The Test Manage Advanced Level Certified Tester qualification is aimed at people who have reached an advanced point in their software testing career\, and at anyone who wants a better understanding of software testing\, strategy\, business organization\, team management and stakeholder communication.
URL:https://q-leap.eu/en/session/istqb-certified-test-manager-advanced-level-9/
CATEGORIES:ISTQB
ATTACH;FMTTYPE=image/png:https://q-leap.eu/wp-content/uploads/2023/12/ISTQB-Advanced-Test-Manager2.png
END:VEVENT
BEGIN:VEVENT
DTSTART;VALUE=DATE:20250703
DTEND;VALUE=DATE:20250705
DTSTAMP:20260422T144401
CREATED:20250428T070833Z
LAST-MODIFIED:20250428T070833Z
UID:39419-1751500800-1751673599@q-leap.eu
SUMMARY:Accelerate your test processes with generative AI
DESCRIPTION:This hands-on training course will enable you to explore the fundamentals of AI\, adopt best practices and use tools to optimize your testing processes.
URL:https://q-leap.eu/en/session/accelerate-your-test-processes-with-generative-ai-9/
CATEGORIES:Artificial Intelligence (AI)
ATTACH;FMTTYPE=image/png:https://q-leap.eu/wp-content/uploads/2023/12/formation-non-certifiante8.png
END:VEVENT
BEGIN:VEVENT
DTSTART;VALUE=DATE:20250701
DTEND;VALUE=DATE:20250704
DTSTAMP:20260422T144401
CREATED:20241106T110235Z
LAST-MODIFIED:20241106T110235Z
UID:37030-1751328000-1751587199@q-leap.eu
SUMMARY:ISTQB Certified Tester - Foundation Level
DESCRIPTION:ISTQB Foundation Level certification is designed for people involved in software testing projects.
URL:https://q-leap.eu/en/session/istqb-certified-tester-foundation-level-11/
CATEGORIES:ISTQB
ATTACH;FMTTYPE=image/png:https://q-leap.eu/wp-content/uploads/2023/12/ISTQB-Foundation-Level1.png
END:VEVENT
BEGIN:VEVENT
DTSTART;VALUE=DATE:20250701
DTEND;VALUE=DATE:20250704
DTSTAMP:20260422T144401
CREATED:20241106T110158Z
LAST-MODIFIED:20250516T110228Z
UID:37027-1751328000-1751587199@q-leap.eu
SUMMARY:ISTQB Certified Tester - Foundation Level
DESCRIPTION:ISTQB Foundation Level certification is designed for people involved in software testing projects.
URL:https://q-leap.eu/en/session/istqb-certified-tester-foundation-level-10/
CATEGORIES:ISTQB
ATTACH;FMTTYPE=image/png:https://q-leap.eu/wp-content/uploads/2023/12/ISTQB-Foundation-Level4.png
END:VEVENT
BEGIN:VEVENT
DTSTART;VALUE=DATE:20250701
DTEND;VALUE=DATE:20250704
DTSTAMP:20260422T144401
CREATED:20241106T105315Z
LAST-MODIFIED:20241106T105315Z
UID:37003-1751328000-1751587199@q-leap.eu
SUMMARY:ISTQB Test Automation Tester - Advanced Level
DESCRIPTION:This training course will enable you to master the implementation of test automation\, whatever the type of project\, and to learn about the main tasks of the person in charge of designing\, developing and maintaining test automation solutions.
URL:https://q-leap.eu/en/session/istqb-test-automation-tester-advanced-level-7/
CATEGORIES:ISTQB
ATTACH;FMTTYPE=image/png:https://q-leap.eu/wp-content/uploads/2023/12/ISTQB-Certified-Tester-Test-Automation-Engineer1.png
END:VEVENT
BEGIN:VEVENT
DTSTART;VALUE=DATE:20250701
DTEND;VALUE=DATE:20250703
DTSTAMP:20260422T144401
CREATED:20241030T135637Z
LAST-MODIFIED:20241030T135637Z
UID:36801-1751328000-1751500799@q-leap.eu
SUMMARY:ISTQB Agile Certified Tester - Foundation Level Extension
DESCRIPTION:The ISTQB agile tester certification course gives testers the knowledge they need to be part of a test team in an agile environment. You will learn about agile development and the fundamental principles\, practices and processes of agile testing.
URL:https://q-leap.eu/en/session/istqb-agile-certified-tester-foundation-level-extension-9/
CATEGORIES:ISTQB
ATTACH;FMTTYPE=image/png:https://q-leap.eu/wp-content/uploads/2023/12/ISTQB-Certifie-Level-Testeur-Agile1.png
END:VEVENT
BEGIN:VEVENT
DTSTART;VALUE=DATE:20250630
DTEND;VALUE=DATE:20250704
DTSTAMP:20260422T144401
CREATED:20250401T082716Z
LAST-MODIFIED:20250522T075427Z
UID:39625-1751241600-1751587199@q-leap.eu
SUMMARY:CFTL / ISTQB® Certified Tester\, Artificial Intelligence
DESCRIPTION:This course aims to provide a comprehensive understanding of current and future trends in AI\, its implementation in different sectors and its impact on various industries. It focuses on developing essential skills for testing machine learning models\, addressing challenges such as bias and transparency\, and learning to design and execute AI-specific test scenarios.
URL:https://q-leap.eu/en/session/cftl-istqb-certified-tester-artificial-intelligence-5/
CATEGORIES:Artificial Intelligence (AI),ISTQB
ATTACH;FMTTYPE=image/png:https://q-leap.eu/wp-content/uploads/2023/12/formation-non-certifiante8.png
END:VEVENT
BEGIN:VEVENT
DTSTART;VALUE=DATE:20250624
DTEND;VALUE=DATE:20250628
DTSTAMP:20260422T144401
CREATED:20241030T132034Z
LAST-MODIFIED:20241030T132034Z
UID:36783-1750723200-1751068799@q-leap.eu
SUMMARY:ISTQB Certified Test Analyst - Advanced level
DESCRIPTION:The diversity of systems and the professions to which they apply makes the approval of applications more complex.  This certification course shows how to analyze a system\, structure and execute the tasks defined in the test strategy\, and implement the tools and techniques necessary for its implementation.
URL:https://q-leap.eu/en/session/istqb-certified-test-analyst-advanced-level-8/
CATEGORIES:ISTQB
ATTACH;FMTTYPE=image/png:https://q-leap.eu/wp-content/uploads/2023/12/ISTQB-certifie-Test-Analyst2.png
END:VEVENT
BEGIN:VEVENT
DTSTART;VALUE=DATE:20250624
DTEND;VALUE=DATE:20250627
DTSTAMP:20260422T144401
CREATED:20241106T095006Z
LAST-MODIFIED:20241106T095006Z
UID:36895-1750723200-1750982399@q-leap.eu
SUMMARY:TMMi Certified Test Maturity Model Integration
DESCRIPTION:This training course will enable you to consolidate your testing processes and promote a rapid return on investment. You will learn the structure of the model and the meaning of each of its 5 levels\, as well as how to assess and develop a test center using an internationally recognized model.
URL:https://q-leap.eu/en/session/tmmi-certified-test-maturity-model-integration-10/
CATEGORIES:ISTQB
ATTACH;FMTTYPE=image/png:https://q-leap.eu/wp-content/uploads/2023/12/TMMI3.png
END:VEVENT
BEGIN:VEVENT
DTSTART;VALUE=DATE:20250624
DTEND;VALUE=DATE:20250627
DTSTAMP:20260422T144401
CREATED:20241105T141032Z
LAST-MODIFIED:20241105T141032Z
UID:36830-1750723200-1750982399@q-leap.eu
SUMMARY:ISTQB Certified Technical Test Analyst - Advanced Level
DESCRIPTION:The role of the technical test analyst is to implement a number of techniques to analyze the internal structure of the system\, and evaluate it in terms of performance\, security and reliability. Through this training course you will learn to master these techniques and obtain official ISTQB certification.
URL:https://q-leap.eu/en/session/istqb-certified-technical-test-analyst-advanced-level-6/
CATEGORIES:ISTQB
ATTACH;FMTTYPE=image/png:https://q-leap.eu/wp-content/uploads/2023/12/ISTQB-Certified-Tester-Advanced-Level-Technical-Test-Analyst1.png
END:VEVENT
BEGIN:VEVENT
DTSTART;VALUE=DATE:20250624
DTEND;VALUE=DATE:20250626
DTSTAMP:20260422T144401
CREATED:20241105T141810Z
LAST-MODIFIED:20241105T141810Z
UID:36842-1750723200-1750895999@q-leap.eu
SUMMARY:ISTQB Certified Model Based Testing - Advanced Level
DESCRIPTION:Model-Based Testing uses modeling to analyze\, design and implement test cases and trace the links between requirements and tests.  This training complements the ISTQB® Foundation level by providing you with skills in this testing approach.
URL:https://q-leap.eu/en/session/istqb-certified-model-based-testing-advanced-level-9/
CATEGORIES:ISTQB
ATTACH;FMTTYPE=image/png:https://q-leap.eu/wp-content/uploads/2023/12/ISTQB-Certified-Tester-Advanced-Level-Technical-Test-Analyst2.png
END:VEVENT
BEGIN:VEVENT
DTSTART;VALUE=DATE:20250624
DTEND;VALUE=DATE:20250626
DTSTAMP:20260422T144401
CREATED:20241030T124802Z
LAST-MODIFIED:20241030T124802Z
UID:36743-1750723200-1750895999@q-leap.eu
SUMMARY:ISTQB Certified Model Based Testing - Advanced Level
DESCRIPTION:Model-Based Testing uses modeling to analyze\, design and implement test cases and trace the links between requirements and tests.  This training complements the ISTQB® Foundation level by providing you with skills in this testing approach.
URL:https://q-leap.eu/en/session/istqb-certified-model-based-testing-advanced-level-6/
CATEGORIES:ISTQB
ATTACH;FMTTYPE=image/png:https://q-leap.eu/wp-content/uploads/2023/12/ISTQB-Certified-Tester-Advanced-Level-Technical-Test-Analyst2.png
END:VEVENT
BEGIN:VEVENT
DTSTART;VALUE=DATE:20250611
DTEND;VALUE=DATE:20250614
DTSTAMP:20260422T144401
CREATED:20241106T102818Z
LAST-MODIFIED:20241106T102818Z
UID:36939-1749600000-1749859199@q-leap.eu
SUMMARY:IQBBA Certified - Business Analyst - Foundation Level
DESCRIPTION:This training course explores all the tasks\, knowledge\, tools and techniques needed to identify and formalize business needs and propose innovative solutions. In three days\, participants are guided through the key phases of business analysis\, acquiring the knowledge they need to pass the IQBBA Foundation Level Business Analyst certification exam.
URL:https://q-leap.eu/en/session/iqbba-certified-business-analyst-foundation-level-9/
CATEGORIES:ISTQB
ATTACH;FMTTYPE=image/png:https://q-leap.eu/wp-content/uploads/2023/12/IQBBA3.png
END:VEVENT
BEGIN:VEVENT
DTSTART;VALUE=DATE:20250603
DTEND;VALUE=DATE:20250605
DTSTAMP:20260422T144401
CREATED:20241106T102123Z
LAST-MODIFIED:20241106T102123Z
UID:36926-1748908800-1749081599@q-leap.eu
SUMMARY:Testing Web Services with ReadyAPI (SoapUI Pro)
DESCRIPTION:ReadyAPY works in all environments and platforms to automate your tests.
URL:https://q-leap.eu/en/session/testing-web-services-with-readyapi-soapui-pro-5/
CATEGORIES:ISTQB
ATTACH;FMTTYPE=image/png:https://q-leap.eu/wp-content/uploads/2023/12/formation-non-certifiante22.png
END:VEVENT
BEGIN:VEVENT
DTSTART;VALUE=DATE:20250526
DTEND;VALUE=DATE:20250529
DTSTAMP:20260422T144401
CREATED:20241106T103626Z
LAST-MODIFIED:20241106T103626Z
UID:36960-1748217600-1748476799@q-leap.eu
SUMMARY:IREB Certified - Requirements engineering - Foundation level
DESCRIPTION:By the end of the course\, participants will have mastered the fundamental principles of requirements engineering in line with IREB (International Requirements Engineering Board) standards. In addition\, they will be prepared to obtain IREB CPRE Foundation level certification.
URL:https://q-leap.eu/en/session/ireb-certified-requirements-engineering-foundation-level-10/
CATEGORIES:ISTQB
ATTACH;FMTTYPE=image/png:https://q-leap.eu/wp-content/uploads/2023/12/IREB5.png
END:VEVENT
BEGIN:VEVENT
DTSTART;VALUE=DATE:20250526
DTEND;VALUE=DATE:20250529
DTSTAMP:20260422T144401
CREATED:20241106T094843Z
LAST-MODIFIED:20241106T094843Z
UID:36891-1748217600-1748476799@q-leap.eu
SUMMARY:TMMi Certified Test Maturity Model Integration
DESCRIPTION:This training course will enable you to consolidate your testing processes and promote a rapid return on investment. You will learn the structure of the model and the meaning of each of its 5 levels\, as well as how to assess and develop a test center using an internationally recognized model.
URL:https://q-leap.eu/en/session/tmmi-certified-test-maturity-model-integration-9/
CATEGORIES:ISTQB
ATTACH;FMTTYPE=image/png:https://q-leap.eu/wp-content/uploads/2023/12/TMMI3.png
END:VEVENT
BEGIN:VEVENT
DTSTART;VALUE=DATE:20250520
DTEND;VALUE=DATE:20250523
DTSTAMP:20260422T144401
CREATED:20250416T081552Z
LAST-MODIFIED:20250416T081552Z
UID:39316-1747699200-1747958399@q-leap.eu
SUMMARY:ISTQB Certified Tester - Foundation Level
DESCRIPTION:The ISTQB foundation level certification is intended for people who participate in software testing projects.
URL:https://q-leap.eu/en/session/istqb-certified-tester-foundation-level-18/
CATEGORIES:ISTQB
ATTACH;FMTTYPE=image/png:https://q-leap.eu/wp-content/uploads/2023/12/ISTQB-Foundation-Level2.png
END:VEVENT
BEGIN:VEVENT
DTSTART;VALUE=DATE:20250515
DTEND;VALUE=DATE:20250517
DTSTAMP:20260422T144401
CREATED:20250401T081933Z
LAST-MODIFIED:20250401T082128Z
UID:39242-1747267200-1747439999@q-leap.eu
SUMMARY:Accelerate your test processes with generative AI
DESCRIPTION:This hands-on training course will enable you to explore the fundamentals of AI\, adopt best practices and use tools to optimize your testing processes.
URL:https://q-leap.eu/en/session/accelerate-your-test-processes-with-generative-ai-8/
CATEGORIES:Artificial Intelligence (AI)
ATTACH;FMTTYPE=image/png:https://q-leap.eu/wp-content/uploads/2023/12/formation-non-certifiante8.png
END:VEVENT
BEGIN:VEVENT
DTSTART;VALUE=DATE:20250515
DTEND;VALUE=DATE:20250517
DTSTAMP:20260422T144401
CREATED:20241030T131104Z
LAST-MODIFIED:20241030T131104Z
UID:36771-1747267200-1747439999@q-leap.eu
SUMMARY:Practical Agile Testing with BDD and Cucumber
DESCRIPTION:Agile approaches have a very specific way of implementing the specification and qualification phases.
URL:https://q-leap.eu/en/session/practical-agile-testing-with-bdd-and-cucumber-6/
CATEGORIES:ISTQB
ATTACH;FMTTYPE=image/png:https://q-leap.eu/wp-content/uploads/2023/12/formation-non-certifiante19.png
END:VEVENT
BEGIN:VEVENT
DTSTART;VALUE=DATE:20250515
DTEND;VALUE=DATE:20250517
DTSTAMP:20260422T144401
CREATED:20241030T130701Z
LAST-MODIFIED:20250401T081712Z
UID:36765-1747267200-1747439999@q-leap.eu
SUMMARY:Automate mobile testing with Appium
DESCRIPTION:Appium is an open-source tool for automating native\, mobile web and hybrid applications on iOS mobile\, Android mobile and Windows platforms.
URL:https://q-leap.eu/en/session/automate-mobile-testing-with-appium-8/
CATEGORIES:Artificial Intelligence (AI)
ATTACH;FMTTYPE=image/png:https://q-leap.eu/wp-content/uploads/2023/12/formation-non-certifiante8.png
END:VEVENT
BEGIN:VEVENT
DTSTART;VALUE=DATE:20250514
DTEND;VALUE=DATE:20250517
DTSTAMP:20260422T144401
CREATED:20241106T105331Z
LAST-MODIFIED:20241106T105331Z
UID:37006-1747180800-1747439999@q-leap.eu
SUMMARY:ISTQB Test Automation Tester - Advanced Level
DESCRIPTION:This training course will enable you to master the implementation of test automation\, whatever the type of project\, and to learn about the main tasks of the person in charge of designing\, developing and maintaining test automation solutions.
URL:https://q-leap.eu/en/session/istqb-test-automation-tester-advanced-level-9/
CATEGORIES:ISTQB
ATTACH;FMTTYPE=image/png:https://q-leap.eu/wp-content/uploads/2023/12/ISTQB-Certified-Tester-Test-Automation-Engineer1.png
END:VEVENT
BEGIN:VEVENT
DTSTART;VALUE=DATE:20250513
DTEND;VALUE=DATE:20250516
DTSTAMP:20260422T144401
CREATED:20241106T110517Z
LAST-MODIFIED:20241106T110517Z
UID:37043-1747094400-1747353599@q-leap.eu
SUMMARY:ISTQB Certified Tester - Foundation Level
DESCRIPTION:The ISTQB foundation level certification is intended for people who participate in software testing projects.
URL:https://q-leap.eu/en/session/istqb-certified-tester-foundation-level-17/
ATTACH;FMTTYPE=image/png:https://q-leap.eu/wp-content/uploads/2023/12/ISTQB-Foundation-Level2.png
END:VEVENT
BEGIN:VEVENT
DTSTART;VALUE=DATE:20250513
DTEND;VALUE=DATE:20250515
DTSTAMP:20260422T144401
CREATED:20241106T101158Z
LAST-MODIFIED:20241106T101158Z
UID:36908-1747094400-1747267199@q-leap.eu
SUMMARY:Testing with Jira
DESCRIPTION:Turn Jira Software into a true Test Management tool by customizing it or using one of the two most popular Atlassian extensions for managing your test activities: Xray or Zephyr (TM4J).
URL:https://q-leap.eu/en/session/testing-with-jira-5/
CATEGORIES:ISTQB
ATTACH;FMTTYPE=image/png:https://q-leap.eu/wp-content/uploads/2023/12/formation-non-certifiante13.png
END:VEVENT
BEGIN:VEVENT
DTSTART;VALUE=DATE:20250513
DTEND;VALUE=DATE:20250515
DTSTAMP:20260422T144401
CREATED:20241030T130200Z
LAST-MODIFIED:20241030T130200Z
UID:36754-1747094400-1747267199@q-leap.eu
SUMMARY:Automate mobile testing with Appium
DESCRIPTION:Appium is an open-source tool for automating native\, mobile web and hybrid applications on iOS mobile\, Android mobile and Windows platforms.
URL:https://q-leap.eu/en/session/automate-mobile-testing-with-appium-6/
CATEGORIES:ISTQB
ATTACH;FMTTYPE=image/png:https://q-leap.eu/wp-content/uploads/2023/12/formation-non-certifiante8.png
END:VEVENT
BEGIN:VEVENT
DTSTART;VALUE=DATE:20250512
DTEND;VALUE=DATE:20250517
DTSTAMP:20260422T144401
CREATED:20241106T104723Z
LAST-MODIFIED:20241106T104723Z
UID:36987-1747008000-1747439999@q-leap.eu
SUMMARY:ISTQB Certified Test Manager - Advanced level
DESCRIPTION:The Test Manage Advanced Level Certified Tester qualification is aimed at people who have reached an advanced point in their software testing career\, and at anyone who wants a better understanding of software testing\, strategy\, business organization\, team management and stakeholder communication.
URL:https://q-leap.eu/en/session/istqb-certified-test-manager-advanced-level-10/
CATEGORIES:ISTQB
ATTACH;FMTTYPE=image/png:https://q-leap.eu/wp-content/uploads/2023/12/ISTQB-Advanced-Test-Manager2.png
END:VEVENT
BEGIN:VEVENT
DTSTART;VALUE=DATE:20250512
DTEND;VALUE=DATE:20250516
DTSTAMP:20260422T144401
CREATED:20250227T143420Z
LAST-MODIFIED:20250227T143420Z
UID:39608-1747008000-1747353599@q-leap.eu
SUMMARY:CFTL / ISTQB® Certified Tester\, Artificial Intelligence
DESCRIPTION:This course aims to provide a comprehensive understanding of current and future trends in AI\, its implementation in different sectors and its impact on various industries. It focuses on developing essential skills for testing machine learning models\, addressing challenges such as bias and transparency\, and learning to design and execute AI-specific test scenarios.
URL:https://q-leap.eu/en/session/cftl-istqb-certified-tester-artificial-intelligence-2/
CATEGORIES:ISTQB
ATTACH;FMTTYPE=image/png:https://q-leap.eu/wp-content/uploads/2023/12/formation-non-certifiante8.png
END:VEVENT
BEGIN:VEVENT
DTSTART;VALUE=DATE:20250423
DTEND;VALUE=DATE:20250426
DTSTAMP:20260422T144401
CREATED:20241105T152829Z
LAST-MODIFIED:20241105T152829Z
UID:36863-1745366400-1745625599@q-leap.eu
SUMMARY:Selenium Foundation A4Q - Certification
DESCRIPTION:Certification is based on hands-on training to deliver immediate return on investment for projects.
URL:https://q-leap.eu/en/session/selenium-foundation-a4q-certification-6/
CATEGORIES:ISTQB
ATTACH;FMTTYPE=image/png:https://q-leap.eu/wp-content/uploads/2023/12/formation-non-certifiante29.png
END:VEVENT
BEGIN:VEVENT
DTSTART;VALUE=DATE:20250422
DTEND;VALUE=DATE:20250425
DTSTAMP:20260422T144401
CREATED:20241106T101536Z
LAST-MODIFIED:20241106T101536Z
UID:36919-1745280000-1745539199@q-leap.eu
SUMMARY:Test engineering in DevOps
DESCRIPTION:The DevOps test engineer is the person responsible for software testing in a DevOps environment. This function requires a very precise vision of what distinguishes DevOps testing from other types of testing.
URL:https://q-leap.eu/en/session/test-engineering-in-devops-6/
CATEGORIES:ISTQB
ATTACH;FMTTYPE=image/png:https://q-leap.eu/wp-content/uploads/2023/12/formation-non-certifiante26.png
END:VEVENT
BEGIN:VEVENT
DTSTART;VALUE=DATE:20250415
DTEND;VALUE=DATE:20250418
DTSTAMP:20260422T144401
CREATED:20241106T104323Z
LAST-MODIFIED:20241106T104323Z
UID:36971-1744675200-1744934399@q-leap.eu
SUMMARY:Performance testing with Neoload
DESCRIPTION:Performance\, like any quality characteristic\, must be checked to control the quality of software development or to ensure that a change in the software environment (operating system upgrade\, infrastructure change\, addition of new software to the ecosystem\, etc.) does not cause collateral damage to the health of the application under test.
URL:https://q-leap.eu/en/session/performance-testing-with-neoload-5/
CATEGORIES:ISTQB
ATTACH;FMTTYPE=image/png:https://q-leap.eu/wp-content/uploads/2023/12/formation-non-certifiante18.png
END:VEVENT
END:VCALENDAR